BEGIN:VCALENDAR
VERSION:2.0
PRODID:-//eventon.com NONSGML v1.0//EN
CALSCALE:GREGORIAN
METHOD:PUBLISH
BEGIN:VEVENT
UID:69e891697c4ed
DTSTAMP:20260422T091417Z
DTSTART:20201216T173000Z
DTEND:20201216T190000Z
LOCATION:Sie erhalten ihren persönlichen Online Zugang nach der Anmeldung
SUMMARY:smART FührungsART 4.0 hello.again. @Tanja Esmyol
DESCRIPTION:&#8222;digital reflection&#8220; FührungsART 4.0 Kunst &amp; C
 oaching Normalerweise verändern wir den klassischen Museumsbesuch. Im Muse
 um Deiner Stadt erhielt die Zeit eine besondere Eigenschaft. Zeit für die 
 eigenen Themen\,  Zeit für Selbstreflexion um Lösungen zu gewinnen. Die M
 useen sind nun aber temporär geschlossen. Wir wären aber nicht CHANGE|AHA
 ED wenn uns dazu[..]\nhttps://change-ahead.de/events/smart-leadership/var/e
 vent_access
URL:https://change-ahead.de/events/smart-leadership/var/event_access
END:VEVENT
END:VCALENDAR